BEGIN:VCALENDAR
VERSION:2.0
PRODID:-//ChamberMaster//Event Calendar 2.0//EN
METHOD:PUBLISH
X-PUBLISHED-TTL:P3D
REFRESH-INTERVAL:P3D
CALSCALE:GREGORIAN
BEGIN:VEVENT
DTSTART;VALUE=DATE:20180811
DTEND;VALUE=DATE:20180812
TRANSP:TRANSPARENT
X-MICROSOFT-CDO-ALLDAYEVENT:TRUE
SUMMARY:Stone Harbor Festival of Lights Boat Parade
DESCRIPTION:Open to all! Theme: "Around the World"\n\nCompetition categories: Best Dock Decor\, best boat decor\, best costume.
X-ALT-DESC;FMTTYPE=text/html:Open to all! Theme: &quot\;Around the World&quot\;<br />\nCompetition categories: Best Dock Decor\, best boat decor\, best costume.
LOCATION:Yacht Club of Stone Harbor\, 9001 Sunset Drive. Must pre-register on line.
UID:e.1667.176707
SEQUENCE:3
DTSTAMP:20260423T130047Z
URL:https://chamber.capemaycountychamber.com/events/details/stone-harbor-festival-of-lights-boat-parade-176707
END:VEVENT

END:VCALENDAR
