BEGIN:VCALENDAR
VERSION:2.0
PRODID:-//ChamberMaster//Event Calendar 2.0//EN
METHOD:PUBLISH
X-PUBLISHED-TTL:P3D
REFRESH-INTERVAL:P3D
CALSCALE:GREGORIAN
BEGIN:VEVENT
DTSTART:20190922T153000Z
DTEND:20190922T200000Z
X-MICROSOFT-CDO-ALLDAYEVENT:FALSE
SUMMARY:Ocean City Corvette Show
DESCRIPTION:Over 350 cars exhibited. One of the largest shows of its kind in the east. Models every year Corvettes were manufactured comprise this colorful show.
X-ALT-DESC;FMTTYPE=text/html:Over 350 cars exhibited. One of the largest shows of its kind in the east. Models every year Corvettes were manufactured comprise this colorful show.
LOCATION:Displayed on the Boardwalk from 6th to 14th Streets
UID:e.1667.183796
SEQUENCE:3
DTSTAMP:20260424T065007Z
URL:https://chamber.capemaycountychamber.com/events/details/ocean-city-corvette-show-183796
END:VEVENT

END:VCALENDAR
