BEGIN:VCALENDAR
VERSION:2.0
PRODID:-//ChamberMaster//Event Calendar 2.0//EN
METHOD:PUBLISH
X-PUBLISHED-TTL:P3D
REFRESH-INTERVAL:P3D
CALSCALE:GREGORIAN
BEGIN:VEVENT
DTSTART:20190525T180000Z
DTEND:20190527T220000Z
X-MICROSOFT-CDO-ALLDAYEVENT:FALSE
SUMMARY:Downtown Wildwood Inaugural Bacon Lovers Festival
DESCRIPTION:Byrne Plaza\, 3400 Pacific Ave.\, Wildwood.  An entire event for Bacon lovers! Food trucks & local tent vendors\, artisan & bacon related vendors. DJ & live bands.  FREE family & kid's activities (to include but not limited to corn hole\, kan jam\, lawn jenga\, connect four\, face painting).  Wine and craft beer tasting and sales in garden/tent area.  Bacon eating contest on Sunday.  Be sure to visit the great Downtown Wildwood shops\, bars and restaurants while you are here!  Sat: 2 p.m. - 10 p.m.\, Sun: Noon - 10 p.m.\, Mon: Noon - 6 p.m.
X-ALT-DESC;FMTTYPE=text/html:<p><span style="font-size: medium\;"><span style="font-family: calibri\;">Byrne Plaza\, 3400 Pacific Ave.\, Wildwood.&nbsp\; An entire event for Bacon lovers! Food trucks &amp\; local tent vendors\, artisan &amp\; bacon related vendors. DJ &amp\; live bands.&nbsp\; FREE family &amp\; kid&rsquo\;s activities (to include but not limited to corn hole\, kan jam\, lawn jenga\, connect four\, face painting).&nbsp\; Wine and craft beer tasting and sales in garden/tent area.&nbsp\; Bacon eating contest on Sunday.&nbsp\; Be sure to visit the great Downtown Wildwood shops\, bars and restaurants while you are here!&nbsp\; Sat: 2 p.m. - 10 p.m.\, Sun: Noon - 10 p.m.\, Mon: Noon - 6 p.m.</span></span><br />\n&nbsp\;</p>\n
LOCATION:Byrne Plaza 3400 Pacific Ave Wildwood\, NJ 08260
UID:e.1667.181711
SEQUENCE:3
DTSTAMP:20260423T031700Z
URL:https://chamber.capemaycountychamber.com/events/details/downtown-wildwood-inaugural-bacon-lovers-festival-181711
END:VEVENT

END:VCALENDAR
