BEGIN:VCALENDAR
VERSION:2.0
PRODID:-//ChamberMaster//Event Calendar 2.0//EN
METHOD:PUBLISH
X-PUBLISHED-TTL:P3D
REFRESH-INTERVAL:P3D
CALSCALE:GREGORIAN
BEGIN:VEVENT
DTSTART:20261002T223000Z
DTEND:20261003T013000Z
X-MICROSOFT-CDO-ALLDAYEVENT:FALSE
SUMMARY:2026 Glow Golf Social w/ Big Little 9
DESCRIPTION:Get ready to light up the night at the Cape May County Chamber's second Glow Golf Social! Join us on Friday\, October 2\, 2026\, at the Big Little 9 Golf Course in Cape May Court House for an evening of glowing fun\, networking\, and friendly competition. Please note: Attendance is restricted to guests age 21 and over.\n\n\n\nKick off the night with hospitality at 6:30 PM\, then hit the greens for a unique 9-hole glow-in-the-dark golf experience with shot-gun start at 7:00 PM. Each foursome registration includes green fees\, glow balls\, and a specially lit course set-up. Please note: no carts will be provided.\n\n\n\nSpots are limited and available on a first-come\, first-served basis\, so gather your team and reserve your spot early!\n\n\n\nDate:\n\nFriday\, October 2\, 2026\n\n \n\nTime:\n\nHospitality   6:30 pm\n\nShot-gun start - 7:00 pm\n\n \n\nLocation\n\nBig Little 9 Golf Course\n\n600 Bayberry Drive\n\nCape May Court House\, NJ 08210\n\n\n\nRegistration Options\n\n	$50 per golfer (6 players per hole max)\n	If not affiliated with a company\, please put "N/A" in Company Field when registering.\n\nDon't miss this glowing opportunity to connect with fellow Chamber members and enjoy a casual night on the course!
X-ALT-DESC;FMTTYPE=text/html:Get ready to light up the night at the Cape May County Chamber&rsquo\;s second&nbsp\;<strong>Glow Golf Social</strong>! Join us on <strong>Friday\, October 2\, 2026</strong>\, at the Big Little 9 Golf Course in Cape May Court House for an evening of glowing fun\, networking\, and friendly competition. <strong><em>Please note: Attendance is restricted to guests age 21 and over.</em></strong><br />\n<br />\n<span style="font-size:14px\;"><span style="font-family:arial\;"><span style="text-align: center\; white-space-collapse: preserve\; color: rgb(0\, 0\, 0)\;">Kick off the night with&nbsp\;hospitality at 6:30 PM\,</span>&nbsp\;t</span>hen hit the greens for a unique 9-hole glow-in-the-dark golf experience with shot-gun start at 7:00 PM.&nbsp\;Each foursome registration includes <strong>green fees\, glow balls\, and a specially lit course set-up</strong>. Please note: <strong>no carts will be provided</strong>.</span><br />\n<br />\nSpots are limited and available on a first-come\, first-served basis\, so gather your team and reserve your spot early!<br />\n<br />\n<strong>Date:</strong><br />\nFriday\, October 2\, 2026<br />\n&nbsp\;<br />\n<strong>Time:</strong><br />\nHospitality &ndash\; 6:30 pm<br />\nShot-gun start - 7:00 pm<br />\n&nbsp\;<br />\n<strong>Location</strong><br />\nBig Little 9 Golf Course<br />\n600 Bayberry Drive<br />\nCape May Court House\, NJ 08210<br />\n<br />\n<strong>Registration Options</strong>\n<ul>\n	<li>$50 per golfer <em>(6 players per hole max)</em></li>\n	<li><span style="color: rgb(54\, 54\, 54)\; font-family: &quot\;Open Sans&quot\;\, serif\; font-size: 14px\; font-weight: 900\; text-align: center\;">If not affiliated&nbsp\;with a company\, please put &quot\;N/A&quot\; in Company Field when registering.</span></li>\n</ul>\nDon&rsquo\;t miss this glowing opportunity to connect with fellow Chamber members and enjoy a casual night on the course!
LOCATION:Big Little 9 Golf Course 600 Bayberry Drive\, Cape May Court House\, New Jersey\, 08210-2431
UID:e.1667.192413
SEQUENCE:3
DTSTAMP:20260421T212957Z
URL:https://chamber.capemaycountychamber.com/events/details/2026-glow-golf-social-w-big-little-9-192413
END:VEVENT

END:VCALENDAR
