BEGIN:VCALENDAR
VERSION:2.0
PRODID:-//ChamberMaster//Event Calendar 2.0//EN
METHOD:PUBLISH
X-PUBLISHED-TTL:P3D
REFRESH-INTERVAL:P3D
CALSCALE:GREGORIAN
BEGIN:VEVENT
DTSTART:20261021T210000Z
DTEND:20261022T003000Z
X-MICROSOFT-CDO-ALLDAYEVENT:FALSE
SUMMARY:2026 Annual Meeting & Installation Dinner
DESCRIPTION:Join us as we celebrate 82 Years as the Cape May County Chamber of Commerce! \n\nEach year\, the Annual Meeting and Awards Reception hosts nearly 200 prominent members of the Cape May County business community. Our guests enjoy a fabulous networking and social hour followed by a full sit-down dinner program featuring the installation of Officers and Directors. This evening also includes the presentation of special awards and incredible gift baskets.\n\nTickets: $80\n\n\n	Cocktail Hour with Cash Bar will include antipasti assortimenti\, crisp vegetable crudit \, hummus display.\n	Dinner includes salad\, your choice of entr e*\, and dessert. \n\n*Entr e options are Atlantic salmon\, braised beef short ribs\, or vegetarian enchilada.\n\n \nEmail events@cmcchamber.com for details.
X-ALT-DESC;FMTTYPE=text/html:<p style="text-align: center\;"><span style="font-size:26px\;"><span style="color:#FF0000\;"><strong>Join us as we celebrate <em>82&nbsp\;Years</em> as the Cape May County Chamber of Commerce!&nbsp\;</strong></span></span></p>\n\n<p style="text-align: center\;"><span style="font-size: 14px\;"><span style="font-family: tahoma\;">Each year\, the Annual Meeting and Awards Reception&nbsp\;</span></span><span style="font-size: 14px\;"><span style="font-family: tahoma\;">hosts nearly 200 prominent members of the Cape May County business&nbsp\;community. Our guests enjoy a fabulous networking and social hour followed by a full sit-down dinner&nbsp\;program&nbsp\;featuring&nbsp\;the installation of Officers and Directors. This&nbsp\;evening also includes the presentation of special awards and incredible gift baskets.</span></span></p>\n\n<p style="text-align: center\;"><span style="color:#FF0000\;"><strong><span style="font-size: 16px\;">Tickets: $80</span></strong></span></p>\n\n<ul>\n	<li><span style="color:#FF0000\;"><em><span style="font-size:14px\;">Cocktail Hour with Cash Bar will include antipasti assortimenti\, crisp vegetable crudit&eacute\;\, hummus display.</span></em></span></li>\n	<li><span style="color:#FF0000\;"><em><span style="font-size:14px\;">Dinner includes salad\, your choice of&nbsp\;entr&eacute\;e*\, and&nbsp\;dessert. </span></em></span></li>\n</ul>\n<span style="font-size:14px\;"><span style="color:#FF0000\;"><em>*Entr&eacute\;e options are Atlantic salmon\, braised beef short ribs\, or vegetarian enchilada.</em></span></span><br />\n&nbsp\;\n<p style="text-align: center\;"><strong><span style="font-size: 16px\;">Email events@cmcchamber.com for details.</span></strong></p>\n
LOCATION:Wildwoods Convention Center 4501 Boardwalk Wildwood\, NJ 08260
UID:e.1667.192433
SEQUENCE:3
DTSTAMP:20260421T211830Z
URL:https://chamber.capemaycountychamber.com/events/details/2026-annual-meeting-installation-dinner-192433
END:VEVENT

END:VCALENDAR
