BEGIN:VCALENDAR
VERSION:2.0
PRODID:-//ChamberMaster//Event Calendar 2.0//EN
METHOD:PUBLISH
X-PUBLISHED-TTL:P3D
REFRESH-INTERVAL:P3D
CALSCALE:GREGORIAN
BEGIN:VEVENT
DTSTART:20250226T220000Z
DTEND:20250227T000000Z
X-MICROSOFT-CDO-ALLDAYEVENT:FALSE
SUMMARY:2025 Evening Networking Mixer @ The Cricket Club
DESCRIPTION:Evening Networking Mixer at The Cricket Club!\n\n\n\nBuild your network of contacts at the Cape May County Chamber of Commerce networking mixer! Connect with friends & colleagues or join us to meet CMC Chamber members in an informal atmosphere. Bring plenty of business cards to build your professional contact network and to create new business relationships! Complimentary hors d'oeuvres and cash bar available. Admission is free\, however\, registration is required.
X-ALT-DESC;FMTTYPE=text/html:<div style="text-align: center\;"><span style="font-size:22px\;"><strong><em><span style="font-family:times new roman\;">Evening Networking Mixer at The Cricket Club!</span></em></strong></span><br />\n<br />\n<span style="font-family: arial\; font-size: 12px\;" title=""><span title="">Build your network of contacts at the Cape May County Chamber of Commerce networking mixer! Connect with friends &amp\; colleagues or join us to meet&nbsp\;CMC Chamber members in an informal atmosphere. Bring plenty of business cards to&nbsp\;build your professional contact network and to create new</span>&nbsp\;business relationships! Complimentary hors d&#39\;oeuvres and cash bar available. Admission is free\, however\, registration is required.</span></div>\n
LOCATION:The Cricket Club 106 Decatur Street Cape May\, NJ 08204
UID:e.1667.191707
SEQUENCE:3
DTSTAMP:20260422T183829Z
URL:https://chamber.capemaycountychamber.com/events/details/2025-evening-networking-mixer-the-cricket-club-191707
END:VEVENT

END:VCALENDAR
